BEGIN:VCALENDAR
VERSION:2.0
PRODID:-//hacksw/handcal//NONSGML v1.0//EN
BEGIN:VEVENT
DTSTART:20260504T164500Z
DTEND:20260504T193000Z
LOCATION:HEC Paris \n9, Avenue Franklin Delano Roosevelt \n75008 PARIS
ORGANIZER;CN=ADELINE REGENT - Risques & Assurances:MAILTO:adeline.regent@edhec.edu
SUMMARY:Table ronde EDHEC Alumni x HEC Alumni – Clubs Risques & Assurances
DESCRIPTION:Table ronde EDHEC Alumni x HEC Alumni – Clubs Risques & AssurancesIA & Assurance : vers une transformation du modèle ?📅 Lundi 4 mai 2026 à 18h45\n📍 HEC Paris – 9 avenue Franklin Delano Roosevelt,...
URL:https://alumni.edhec.edu/fr/group/risques-assurances/1106/calendar/table-ronde-edhec-alumni-x-hec-alumni-clubs-risques-assurances/2026/05/04/22832
BEGIN:VALARM
TRIGGER:-P0DT1H0M0S
ACTION:DISPLAY
END:VALARM
END:VEVENT
END:VCALENDAR