BEGIN:VCALENDAR
VERSION:2.0
PRODID:-//hacksw/handcal//NONSGML v1.0//EN
BEGIN:VEVENT
DTSTART:20260506T153000Z
DTEND:20260506T163000Z
LOCATION:https://teams.microsoft.com/meet/370945184616850?p=oBMXQo5DOjdbRtm7mF
ORGANIZER;CN=MARGOT DOYE - Afrique subsaharienne (Côte d'Ivoire, Bénin, Cameroun, Nigeria, Sénégal):MAILTO:margot.doye@edhec.edu
SUMMARY:Webinaire – Afrique de l’Ouest : enjeux économiques et perspectives
DESCRIPTION:Chers alumni,Nous avons le plaisir de vous convier à un webinaire le 6 mai à 17h30 (CET), consacré à la situation économique en Afrique de l’Ouest — un sujet à la fois riche et stratégique dans le...
URL:https://alumni.edhec.edu/fr/group/afrique-subsaharienne-cote-d-ivoire-benin-cameroun-nigeria-senegal/80/calendar/webinaire-afrique-de-l-ouest-enjeux-economiques-et-perspectives/2026/05/06/22830
BEGIN:VALARM
TRIGGER:-P0DT1H0M0S
ACTION:DISPLAY
END:VALARM
END:VEVENT
END:VCALENDAR