BEGIN:VCALENDAR
VERSION:2.0
PRODID:-//hacksw/handcal//NONSGML v1.0//EN
BEGIN:VEVENT
DTSTART:20260512T070000Z
DTEND:20260512T160000Z
LOCATION:Campus EDHEC Paris \n16-18 rue du Quatre Septembre \n75002 Paris
ORGANIZER;CN=ADELINE REGENT - EDHEC Alumni Data & AI:MAILTO:adeline.regent@edhec.edu
SUMMARY:Lead Innovation Day 2026 - Leadership Edition
DESCRIPTION:Lead Innovation Day 2026 - Leadership EditionMay 12, 2026 | EDHEC Business School, ParisLead with AIA full day for 80 leaders working on Innovation, Digital, AI and Transformation in large...
URL:https://alumni.edhec.edu/fr/group/edhec-alumni-data-ai/1120/calendar/lead-innovation-day-2026-leadership-edition/2026/05/12/22829
BEGIN:VALARM
TRIGGER:-P0DT1H0M0S
ACTION:DISPLAY
END:VALARM
END:VEVENT
END:VCALENDAR