BEGIN:VCALENDAR
VERSION:2.0
PRODID:-//hacksw/handcal//NONSGML v1.0//EN
BEGIN:VEVENT
DTSTART:20260512T120000Z
DTEND:20260512T143000Z
LOCATION:Alliance Française Bangkok \n179, Soi Arun McKinnon \n10330 Bangkok
ORGANIZER;CN=SOFIANE MOROUCHE - Thaïlande:MAILTO:sofianemorouche@gmail.com
SUMMARY:French Grandes Ecoles Night 2026 - Alliance Française - 12/05
DESCRIPTION:Dear EDHEC Alumni in Thailand,\nUpdate 16/04/2026: Thanks to a bigger capacity of the hosting venue this year, we are able to allow +1 and guests for this event. You may book as many tickets as...
URL:https://alumni.edhec.edu/fr/group/thailande/125/calendar/french-grandes-ecoles-night-2026-alliance-francaise-12-05/2026/05/12/22821
BEGIN:VALARM
TRIGGER:-P0DT1H0M0S
ACTION:DISPLAY
END:VALARM
END:VEVENT
END:VCALENDAR