BEGIN:VCALENDAR
VERSION:2.0
PRODID:-//hacksw/handcal//NONSGML v1.0//EN
BEGIN:VEVENT
DTSTART:20261107T123000Z
DTEND:20261107T183000Z
LOCATION:EDHEC BUSINESS SCHOOL \n372, Rue Verte \n59170 CROIX
ORGANIZER;CN=VERONIQUE DONAGHY:MAILTO:veronique.donaghy@edhec.edu
SUMMARY:Promo 1981 : déjà 45 ans !
DESCRIPTION:\nOn n'a pas tous les jours 45 ans !Impossible de ne pas honorer ce grand rendez-vous pour les 45 ans de notre promotion. Je vous donne rendez-vous le samedi 7 novembre 2026 sur le campus de...
URL:https://alumni.edhec.edu/fr/event/promo-1981-deja-45-ans/2026/11/07/22802
BEGIN:VALARM
TRIGGER:-P0DT1H0M0S
ACTION:DISPLAY
END:VALARM
END:VEVENT
END:VCALENDAR