BEGIN:VCALENDAR
VERSION:2.0
PRODID:-//hacksw/handcal//NONSGML v1.0//EN
BEGIN:VEVENT
DTSTART:20260706T163000Z
DTEND:20260706T180000Z
LOCATION:https://teams.microsoft.com/meet/42130339460596?p=sesFVIzYTrxPuOThSR
ORGANIZER;CN=GERALDINE SIMON - EDHEC Alumni Data & AI:MAILTO:geraldine.simon@edhec.edu
SUMMARY:“IA & Marketing” par Bangcast : Module 6/6 : Exploiter la veille et la donnée pour mieux décider avec l’IA
DESCRIPTION:Parcours de formation “IA & Marketing” par Bangcast | PALO IT AcademyLes incontournables pour performer en 2026 Module 6/6 : Exploiter la veille et la donnée pour mieux décider avec l’IA 🔴 SESSION...
URL:https://alumni.edhec.edu/fr/group/edhec-alumni-data-ai/1120/calendar/-ia-marketing-par-bangcast-module-6-6-exploiter-la-veille-et-la-donnee-pour-mieux-decider-avec-l-ia/2026/07/06/22796
BEGIN:VALARM
TRIGGER:-P0DT1H0M0S
ACTION:DISPLAY
END:VALARM
END:VEVENT
END:VCALENDAR