BEGIN:VCALENDAR
VERSION:2.0
PRODID:-//hacksw/handcal//NONSGML v1.0//EN
BEGIN:VEVENT
DTSTART:20260506T163000Z
DTEND:20260506T180000Z
LOCATION:https://teams.microsoft.com/meet/41169768148760?p=r3rk1zTfJKs2PIre4n
ORGANIZER;CN=GERALDINE SIMON - EDHEC Alumni Data & AI:MAILTO:geraldine.simon@edhec.edu
SUMMARY:“IA & Marketing” par Bangcast : Module 4/6 : Gagner du temps au quotidien grâce aux agents et assistants IA
DESCRIPTION:Parcours de formation “IA & Marketing” par Bangcast | PALO IT AcademyLes incontournables pour performer en 2026 Module 4/6 : Gagner du temps au quotidien grâce aux agents et assistants IA 🔴 SESSION...
URL:https://alumni.edhec.edu/fr/group/edhec-alumni-data-ai/1120/calendar/-ia-marketing-par-bangcast-module-4-6-gagner-du-temps-au-quotidien-grace-aux-agents-et-assistants-ia/2026/05/06/22793
BEGIN:VALARM
TRIGGER:-P0DT1H0M0S
ACTION:DISPLAY
END:VALARM
END:VEVENT
END:VCALENDAR