BEGIN:VCALENDAR
VERSION:2.0
PRODID:-//hacksw/handcal//NONSGML v1.0//EN
BEGIN:VEVENT
DTSTART:20260512T163000Z
DTEND:20260512T180000Z
LOCATION:https://teams.microsoft.com/meet/4217287616955?p=qDpvy0dsxLmwZIlHYN
ORGANIZER;CN=GERALDINE SIMON - EDHEC Alumni Data & AI:MAILTO:geraldine.simon@edhec.edu
SUMMARY:“AI & Marketing” by Bangcast : Module 4/6: Save Time Daily with AI Agents and Assistants
DESCRIPTION:Bangcast “AI & Marketing” Training Program:The Must-Have Skills to Perform in 2026 Module 4/6: Save Time Daily with AI Agents and Assistants 🔴 LIVE TRAINING Date and time : Tuesday, May 12th | 6:30 PM...
URL:https://alumni.edhec.edu/fr/group/edhec-alumni-data-ai/1120/calendar/-ai-marketing-by-bangcast-module-4-6-save-time-daily-with-ai-agents-and-assistants/2026/05/12/22792
BEGIN:VALARM
TRIGGER:-P0DT1H0M0S
ACTION:DISPLAY
END:VALARM
END:VEVENT
END:VCALENDAR