BEGIN:VCALENDAR
VERSION:2.0
PRODID:-//hacksw/handcal//NONSGML v1.0//EN
BEGIN:VEVENT
DTSTART:20260423T160000Z
DTEND:20260423T173000Z
LOCATION:https://teams.microsoft.com/meet/34661190257291?p=CquspyuJ9A1DmVO5Wc
ORGANIZER;CN=MARGOT DOYE - Canada | Toronto:MAILTO:margot.doye@edhec.edu
SUMMARY:From Geopolitical Risk to Geopolitical Strategy | EDHEC North America Alumni Series
DESCRIPTION:As part of the launch of the EDHEC North America Alumni Series, we are pleased to invite you to an online conversation with Luc de Rancourt on the evolving relationship between geopolitics and...
URL:https://alumni.edhec.edu/fr/group/canada-toronto/68/calendar/from-geopolitical-risk-to-geopolitical-strategy-edhec-north-america-alumni-series/2026/04/23/22790
BEGIN:VALARM
TRIGGER:-P0DT1H0M0S
ACTION:DISPLAY
END:VALARM
END:VEVENT
END:VCALENDAR