BEGIN:VCALENDAR
VERSION:2.0
PRODID:-//hacksw/handcal//NONSGML v1.0//EN
BEGIN:VEVENT
DTSTART:20260414T180000Z
DTEND:20260414T220000Z
LOCATION:NoLIta \n64, South Great George's Street \nD02 YR20 DUBLIN 8
ORGANIZER;CN=ANAELLE LEOST - Ireland | Dublin:MAILTO:anaelle.leost@edhec.edu
SUMMARY:EDHEC Alumni & Masters Spring Gathering at NoLIta
DESCRIPTION:EDHEC Alumni & Masters Spring Gathering \nTuesday 14th April- 7pm-11pm GMT NoLIta\nDear Alumni in Dublin,\nJoin fellow Alumni at NoLIta on Tuesday 14th April from 7pm to reconnect and celebrate Spring...
URL:https://alumni.edhec.edu/fr/group/ireland-dublin/74/calendar/edhec-alumni-masters-spring-gathering-at-nolita/2026/04/14/22779
BEGIN:VALARM
TRIGGER:-P0DT1H0M0S
ACTION:DISPLAY
END:VALARM
END:VEVENT
END:VCALENDAR