BEGIN:VCALENDAR
VERSION:2.0
PRODID:-//hacksw/handcal//NONSGML v1.0//EN
BEGIN:VEVENT
DTSTART:20260316T173000Z
DTEND:20260316T190000Z
LOCATION:https://bit.ly/3OrOoHX
ORGANIZER;CN=GERALDINE SIMON - EDHEC Alumni Data & AI:MAILTO:geraldine.simon@edhec.edu
SUMMARY:“AI & Marketing” by Bangcast : Module 2/6: Building Your Annual Marketing and Sales Strategy with AI
DESCRIPTION:Bangcast “AI & Marketing” Training Program:The Must-Have Skills to Perform in 2026 Module 2/6: Building Your Annual Marketing and Sales Strategy with AI🔴 LIVE TRAINING WITHOUT REPLAY Date and time :...
URL:https://alumni.edhec.edu/fr/group/edhec-alumni-data-ai/1120/calendar/-ai-marketing-by-bangcast-module-2-6-building-your-annual-marketing-and-sales-strategy-with-ai/2026/03/16/22722
BEGIN:VALARM
TRIGGER:-P0DT1H0M0S
ACTION:DISPLAY
END:VALARM
END:VEVENT
END:VCALENDAR