BEGIN:VCALENDAR
VERSION:2.0
PRODID:-//hacksw/handcal//NONSGML v1.0//EN
BEGIN:VEVENT
DTSTART:20260219T190000Z
DTEND:20260219T220000Z
LOCATION:The Odeon Dublin \n57, Harcourt Street \nD02 VE22 DUBLIN 2
ORGANIZER;CN=ANAELLE LEOST - Ireland | Dublin:MAILTO:anaelle.leost@edhec.edu
SUMMARY:Networking drinks between EDHEC Alumni & MBA students
DESCRIPTION:Networking drinks: Connecting EDHEC Alumni & Global MBA Students The Odeon DublinThursday 19th February - from 7pm GMTDear EDHEC Alumni in Dublin,We are delighted to invite you to an alumni networking...
URL:https://alumni.edhec.edu/fr/group/ireland-dublin/74/calendar/networking-drinks-between-edhec-alumni-mba-students/2026/02/19/22656
BEGIN:VALARM
TRIGGER:-P0DT1H0M0S
ACTION:DISPLAY
END:VALARM
END:VEVENT
END:VCALENDAR