BEGIN:VCALENDAR
VERSION:2.0
PRODID:-//hacksw/handcal//NONSGML v1.0//EN
BEGIN:VEVENT
DTSTART:20260218T130000Z
DTEND:20260219T110000Z
LOCATION:Amsterdam
ORGANIZER;CN=MARGOT DOYE - Pays Bas | Amsterdam:MAILTO:margot.doye@edhec.edu
SUMMARY:Free Career Coaching interviews in Amsterdam
DESCRIPTION:FREE CAREER COACHING INTERVIEWS & AFTERWORK WITH SILVIA MARICHALAR, INTERNATIONAL EXECUTIVE COACH: WHAT?Are you interested in a free career coaching interview in Amsterdam?Silvia Marichalar,...
URL:https://alumni.edhec.edu/fr/group/pays-bas-amsterdam/46/calendar/free-career-coaching-interviews-in-amsterdam/2026/02/18/22642
BEGIN:VALARM
TRIGGER:-P0DT1H0M0S
ACTION:DISPLAY
END:VALARM
END:VEVENT
END:VCALENDAR