BEGIN:VCALENDAR
VERSION:2.0
PRODID:-//hacksw/handcal//NONSGML v1.0//EN
BEGIN:VEVENT
DTSTART:20251215T180000Z
DTEND:20251215T190000Z
LOCATION:Salons des Arts et Métiers \n9, Avenue d'Iéna \n75016 PARIS
ORGANIZER;CN=ADELINE REGENT - Corporate Finance:MAILTO:adeline.regent@edhec.edu
SUMMARY:Fiplus | Grande conférence : L’IA en Finance : Votre entreprise sera-t-elle un leader… ou un cas d’école ?
DESCRIPTION:Le club finance EDHEC Alumni  et FiPlus, le méta-réseau des financiers d’entreprise, vous convient à leur prochaine Grande Conférence pour décrypter l'impact de l'Intelligence Artificielle.L’IA en...
URL:https://alumni.edhec.edu/fr/group/corporate-finance/38/calendar/fiplus-grande-conference-l-ia-en-finance-votre-entreprise-sera-t-elle-un-leader-ou-un-cas-d-ecole/2025/12/15/22603
BEGIN:VALARM
TRIGGER:-P0DT1H0M0S
ACTION:DISPLAY
END:VALARM
END:VEVENT
END:VCALENDAR