BEGIN:VCALENDAR
VERSION:2.0
PRODID:-//hacksw/handcal//NONSGML v1.0//EN
BEGIN:VEVENT
DTSTART:20251028T160000Z
DTEND:20251028T170000Z
LOCATION:https://app.livestorm.co/edhec-business-school-4/ai-impact-series-redesigning-business-processes-for-the-generative-era-with-dr-greger-ottosson/live?s=f9d6422c-af4e-4937-8441-60eda2df06f6#/chat
ORGANIZER;CN=GERALDINE SIMON - EDHEC Alumni Data & AI:MAILTO:geraldine.simon@edhec.edu
SUMMARY:AI Impact Series: Redesigning Business Processes for the Generative Era with Dr. Greger Ottosson
DESCRIPTION:Facilitated by Dr. Greger Ottosson, founder and CEO of Cube5 AI, this session offers a practical exploration of AI’s real impact on business processes. It traces the progression from individual...
URL:https://alumni.edhec.edu/fr/group/edhec-alumni-data-ai/1120/calendar/ai-impact-series-redesigning-business-processes-for-the-generative-era-with-dr-greger-ottosson/2025/10/28/22567
BEGIN:VALARM
TRIGGER:-P0DT1H0M0S
ACTION:DISPLAY
END:VALARM
END:VEVENT
END:VCALENDAR