BEGIN:VCALENDAR
VERSION:2.0
PRODID:-//hacksw/handcal//NONSGML v1.0//EN
BEGIN:VEVENT
DTSTART:20251127T174500Z
DTEND:20251127T200000Z
LOCATION:Cabinet Progress Associés  \n2, Rue de la Paix \n75002 PARIS
ORGANIZER;CN=ADELINE REGENT:MAILTO:adeline.regent@edhec.edu
SUMMARY:Club Risques & Assurances - Événement Carrière : “Cultiver sa relation avec un chasseur de tête”
DESCRIPTION:Comment entretenir une relation efficace et durable avec un chasseur de tête ?Quels sont les bonnes pratiques?Et quelles sont les tendances actuelles du recrutement dans la gestion des risques et...
URL:https://alumni.edhec.edu/fr/event/club-risques-assurances-evenement-carriere-cultiver-sa-relation-avec-un-chasseur-de-tete/2025/11/27/22509
BEGIN:VALARM
TRIGGER:-P0DT1H0M0S
ACTION:DISPLAY
END:VALARM
END:VEVENT
END:VCALENDAR