BEGIN:VCALENDAR
VERSION:2.0
PRODID:-//hacksw/handcal//NONSGML v1.0//EN
BEGIN:VEVENT
DTSTART:20251022T163000Z
DTEND:20251022T203000Z
LOCATION:La Mezzanine du Boulevard \n10, Avenue Monterey \n2163 LUXEMBOURG
ORGANIZER;CN=CHARLOTTE JUGE - Luxembourg:MAILTO:charlotte.juge@edhec.com
SUMMARY:WELCOME PARTY I 22 October 2025 I La Mezzanine du Boulevard
DESCRIPTION:WELCOME PARTY LUXEMBOURG Wednesday 22 October 2025 – from 6:30 PM\nLa Mezzanine du Boulevard \nREGISTRATION DEADLINE : Monday 20 October 11.55 AM\nDear Alumni,The EDHEC network invites you to join us ...
URL:https://alumni.edhec.edu/fr/group/luxembourg/52/calendar/welcome-party-i-22-october-2025-i-la-mezzanine-du-boulevard/2025/10/22/22491
BEGIN:VALARM
TRIGGER:-P0DT1H0M0S
ACTION:DISPLAY
END:VALARM
END:VEVENT
END:VCALENDAR