BEGIN:VCALENDAR
VERSION:2.0
PRODID:-//hacksw/handcal//NONSGML v1.0//EN
BEGIN:VEVENT
DTSTART:20251009T163000Z
DTEND:20251009T190000Z
LOCATION:Quintet Private Bank Luxembourg  \n43, Boulevard Royal \n2449 LUXEMBOURG
ORGANIZER;CN=RALUCA TURCU - Luxembourg:MAILTO:
SUMMARY:ALUMNI NETWORK EVENT: CONNECTING TALENT and BUSINESSES
DESCRIPTION:\nALUMNI NETWORKS: CONNECTING TALENT and BUSINESSES to POWER GROWTH---\nAre you curious about what leadership really requires in today's shifting landscape? \nAgility, emotional intelligence and...
URL:https://alumni.edhec.edu/fr/group/luxembourg/52/calendar/alumni-network-event-connecting-talent-and-businesses/2025/10/09/22464
BEGIN:VALARM
TRIGGER:-P0DT1H0M0S
ACTION:DISPLAY
END:VALARM
END:VEVENT
END:VCALENDAR