BEGIN:VCALENDAR
VERSION:2.0
PRODID:-//hacksw/handcal//NONSGML v1.0//EN
BEGIN:VEVENT
DTSTART:20251016T170000Z
DTEND:20251016T183000Z
LOCATION:Campus EDHEC Paris \n25, Rue de Gramont \n75002 PARIS
ORGANIZER;CN=ADELINE REGENT:MAILTO:adeline.regent@edhec.edu
SUMMARY:FiDurable x Club Finance EDHEC Alumni | Stratégies d’investissement durables : Comment maximiser l'impact environnemental et social tout en contrôlant les risques financiers ?
DESCRIPTION:Dans un monde fluctuant, où la finance durable cherche à consolider sa légitimité sur les marchés, nous allons essayer de décrypter ensemble ce qui se cache derrière les stratégies d'investissement...
URL:https://alumni.edhec.edu/fr/event/fidurable-x-club-finance-edhec-alumni-strategies-d-investissement-durables-comment-maximiser-l-impact-environnemental-et-social-tout-en-controlant-les-risques-financiers/2025/10/16/22447
BEGIN:VALARM
TRIGGER:-P0DT1H0M0S
ACTION:DISPLAY
END:VALARM
END:VEVENT
END:VCALENDAR