BEGIN:VCALENDAR
VERSION:2.0
PRODID:-//hacksw/handcal//NONSGML v1.0//EN
BEGIN:VEVENT
DTSTART:20250918T170000Z
DTEND:20250918T200000Z
LOCATION:BRAVO ! \n4, Rue du Vieux-Marché-aux-Vins \n67000 STRASBOURG
ORGANIZER;CN=YANN RINCKENBERGER ISNARD - France | Grand-Est (Strasbourg):MAILTO:yann.rinckenbergerisnard@edhec.com
SUMMARY:Welcome Party - Afterwork  à Strasbourg - 18 septembre
DESCRIPTION:Chers Alumni,Pour célébrer la rentrée, retrouvons-nous dans un lieu unique et inspirant : le Bravo ! à Strasbourg, un bar-brasserie qui met à l'honneur l'Italie. Un espace hybride, convivial et...
URL:https://alumni.edhec.edu/fr/group/france-grand-est-strasbourg/89/calendar/welcome-party-afterwork-a-strasbourg-18-septembre/2025/09/18/22412
BEGIN:VALARM
TRIGGER:-P0DT1H0M0S
ACTION:DISPLAY
END:VALARM
END:VEVENT
END:VCALENDAR