BEGIN:VCALENDAR
VERSION:2.0
PRODID:-//hacksw/handcal//NONSGML v1.0//EN
BEGIN:VEVENT
DTSTART:20250923T113000Z
DTEND:20250923T140000Z
LOCATION:Ambassador's residence, French Embassy Bangkok \n35 Charoen Krung 36 Alley, Bang Rak, Bangkok 10500 \n10500 Bangkok
ORGANIZER;CN=SOFIANE MOROUCHE - Thaïlande:MAILTO:sofianemorouche@gmail.com
SUMMARY:French Grandes Ecoles Night at the France Ambassador Residence
DESCRIPTION:UPDATE 08/09/2025: As the event is currently full, it is not possible to register through the event page anymore. Please do get in touch directly by writing to the email below to be added to the...
URL:https://alumni.edhec.edu/fr/group/thailande/125/calendar/french-grandes-ecoles-night-at-the-france-ambassador-residence/2025/09/23/22256
BEGIN:VALARM
TRIGGER:-P0DT1H0M0S
ACTION:DISPLAY
END:VALARM
END:VEVENT
END:VCALENDAR