BEGIN:VCALENDAR
VERSION:2.0
PRODID:-//hacksw/handcal//NONSGML v1.0//EN
BEGIN:VEVENT
DTSTART:20250607T053000Z
DTEND:20250607T093000Z
LOCATION:OCTAVE Shanghai \n357 Jianguo West Road, Xuhui District
ORGANIZER;CN=MARGOT DOYE - Chine | Shanghai:MAILTO:margot.doye@edhec.edu
SUMMARY:EDHEC Rendez-vous Shanghai 2025 : EDHEC by Nature :herb:
DESCRIPTION:The EDHEC Rendez-vous is EDHEC Alumni’s annual flagship event, bringing together our vibrant alumni community in nearly 60 cities worldwide each summer. It’s a time to celebrate our beloved school and...
URL:https://alumni.edhec.edu/fr/group/chine-shanghai/63/calendar/edhec-rendez-vous-shanghai-2025-edhec-by-nature-herb/2025/06/07/22254
BEGIN:VALARM
TRIGGER:-P0DT1H0M0S
ACTION:DISPLAY
END:VALARM
END:VEVENT
END:VCALENDAR