BEGIN:VCALENDAR
VERSION:2.0
PRODID:-//hacksw/handcal//NONSGML v1.0//EN
BEGIN:VEVENT
DTSTART:20250908T163000Z
DTEND:20250908T180000Z
LOCATION:https://eu.bbcollab.com/guest/4c992e4c45ac41fabb03c3d5d71e77fb
ORGANIZER;CN=ADELINE REGENT:MAILTO:adeline.regent@edhec.edu
SUMMARY:ALUMNI SUMMER SESSION |CODEV avec Mireille Grange : trouve ton juste équilibre ( Groupe 1 session n°5)
DESCRIPTION:Tu cherches à retrouver ton équilibre personnel et professionnel ?\nTu veux prendre du recul, mieux te connaître et progresser dans un cadre bienveillant et confidentiel ?\nAlors ce cycle de...
URL:https://alumni.edhec.edu/fr/event/alumni-summer-session-codev-avec-mireille-grange-trouve-ton-juste-equilibre-groupe-1-session-n-5/2025/09/08/22236
BEGIN:VALARM
TRIGGER:-P0DT1H0M0S
ACTION:DISPLAY
END:VALARM
END:VEVENT
END:VCALENDAR