BEGIN:VCALENDAR
VERSION:2.0
PRODID:-//hacksw/handcal//NONSGML v1.0//EN
BEGIN:VEVENT
DTSTART:20250916T163000Z
DTEND:20250916T173000Z
LOCATION:
ORGANIZER;CN=ADELINE REGENT:MAILTO:adeline.regent@edhec.edu
SUMMARY:ALUMNI SUMMER SESSION | CODEV avec Iwann Le Dû (Groupe 1, session n°5)
DESCRIPTION:Tu es en phase active de recherche d'emploi, de construction de ton projet professionnel, ou simplement en questionnement ? Tu souhaites t'investir dans un programme court et orienté action pour...
URL:https://alumni.edhec.edu/fr/event/alumni-summer-session-codev-avec-iwann-le-du-groupe-1-session-n-5/2025/09/16/22226
BEGIN:VALARM
TRIGGER:-P0DT1H0M0S
ACTION:DISPLAY
END:VALARM
END:VEVENT
END:VCALENDAR