BEGIN:VCALENDAR
VERSION:2.0
PRODID:-//hacksw/handcal//NONSGML v1.0//EN
BEGIN:VEVENT
DTSTART:20250916T100000Z
DTEND:20250918T183000Z
LOCATION:
ORGANIZER;CN=ADELINE REGENT:MAILTO:adeline.regent@edhec.edu
SUMMARY:Alumni Summer Session | The week : ensemble, faire face à la crise environnementale et climatique
DESCRIPTION:Parmi les grandes thématiques abordées cette année par EDHEC Alumni sous l’intitulé “The Right Balance”, la question de l’engagement sociétal occupe une place centrale.Dans un monde confronté à de...
URL:https://alumni.edhec.edu/fr/event/alumni-summer-session-the-week-ensemble-faire-face-a-la-crise-environnementale-et-climatique/2025/09/16/22202
BEGIN:VALARM
TRIGGER:-P0DT1H0M0S
ACTION:DISPLAY
END:VALARM
END:VEVENT
END:VCALENDAR