BEGIN:VCALENDAR
VERSION:2.0
PRODID:-//hacksw/handcal//NONSGML v1.0//EN
BEGIN:VEVENT
DTSTART:20250521T170000Z
DTEND:20250521T193000Z
LOCATION:Campus EDHEC Paris \n16-18 rue du Quatre Septembre \n75002 Paris
ORGANIZER;CN=ADELINE REGENT:MAILTO:adeline.regent@edhec.edu
SUMMARY:CAMPUS EDHEC Paris | Club Culture & Management | Les enjeux de la décarbonation du secteur culturel
DESCRIPTION:Ce débat portera sur la décarbonation du secteur culturel et nous permettra d'explorer comment réduire l'empreinte carbone des événements, productions et infrastructures artistiques sans pour autant...
URL:https://alumni.edhec.edu/fr/event/campus-edhec-paris-club-culture-management-les-enjeux-de-la-decarbonation-du-secteur-culturel/2025/05/21/22091
BEGIN:VALARM
TRIGGER:-P0DT1H0M0S
ACTION:DISPLAY
END:VALARM
END:VEVENT
END:VCALENDAR