BEGIN:VCALENDAR
VERSION:2.0
PRODID:-//hacksw/handcal//NONSGML v1.0//EN
BEGIN:VEVENT
DTSTART:20250120T173000Z
DTEND:20250120T183000Z
LOCATION:https://bit.ly/3ZKJxFd
ORGANIZER;CN=GERALDINE SIMON:MAILTO:geraldine.simon@edhec.edu
SUMMARY:Focus IA | Comment adapter sa stratégie marketing avec l’IA ?
DESCRIPTION:Nous sommes ravis de vous inviter à notre nouveau webinaire d'introduction à l'IA générative.\nComment adapter sa stratégie marketing avec l’IA ? \nAujourd'hui, intégrer l’IA dans sa stratégie...
URL:https://alumni.edhec.edu/fr/event/focus-ia-comment-adapter-sa-strategie-marketing-avec-l-ia/2025/01/20/21964
BEGIN:VALARM
TRIGGER:-P0DT1H0M0S
ACTION:DISPLAY
END:VALARM
END:VEVENT
END:VCALENDAR