BEGIN:VCALENDAR
VERSION:2.0
PRODID:-//hacksw/handcal//NONSGML v1.0//EN
BEGIN:VEVENT
DTSTART:20241114T180000Z
DTEND:20241114T200000Z
LOCATION:Now Coworking \n10, Place Gutenberg \n67000 STRASBOURG
ORGANIZER;CN=AMANDINE MAZENC:MAILTO:mazenc.amandine@gmail.com
SUMMARY:Welcome Party, Club Grand-Est (Strasbourg)
DESCRIPTION:\nChers Alumni,Nous avons le plaisir de t'inviter à la Welcome Party EDHEC Alumni de Strasbourg, qui se tiendra le jeudi 14 novembre 2024, à partir de 19h00. C’est l’occasion idéale pour rencontrer...
URL:https://alumni.edhec.edu/fr/event/welcome-party-club-grand-est-strasbourg/2024/11/14/21837
BEGIN:VALARM
TRIGGER:-P0DT1H0M0S
ACTION:DISPLAY
END:VALARM
END:VEVENT
END:VCALENDAR