BEGIN:VCALENDAR
VERSION:2.0
PRODID:-//hacksw/handcal//NONSGML v1.0//EN
BEGIN:VEVENT
DTSTART:20241008T110000Z
DTEND:20241008T120000Z
LOCATION:https://us06web.zoom.us/j/89387940377
ORGANIZER;CN=CECILE LOYER:MAILTO:cecile.loyer@orange.fr
SUMMARY:EDHEC ALUMNI : Quoi de neuf pour la rentrée 2024 ? Nouveaux services, Plan stratégique,...
DESCRIPTION:C'est la Rentrée ! C'est le moment de te reconnecter à ton association EDHEC ALUMNI...\nDurant ce webinaire de 45 minutes :Martin Barbier, Directeur d'EDHEC Alumni te présentera les grandes lignes du ...
URL:https://alumni.edhec.edu/fr/event/edhec-alumni-quoi-de-neuf-pour-la-rentree-2024-nouveaux-services-plan-strategique/2024/10/08/21737
BEGIN:VALARM
TRIGGER:-P0DT1H0M0S
ACTION:DISPLAY
END:VALARM
END:VEVENT
END:VCALENDAR