BEGIN:VCALENDAR
VERSION:2.0
PRODID:-//hacksw/handcal//NONSGML v1.0//EN
BEGIN:VEVENT
DTSTART:20241022T173000Z
DTEND:20241022T210000Z
LOCATION:Institut Français \n17 Queensberry Place \nSW7 2DT London
ORGANIZER;CN=AUDREY HAVERKAMP-COURTY - UK | London:MAILTO:audrey.haverkamp@edhec.edu
SUMMARY:Investing in our plate: Solutions for the future of food
DESCRIPTION:"Make an Impact for Good" Sustainability ProgrammeInvesting in our plate: Solutions for the future of food  Tuesday 22nd October - 6.30pm UK time | Institut Français du Royaume-Uni \nDid you know that...
URL:https://alumni.edhec.edu/fr/group/uk-london/86/calendar/investing-in-our-plate-solutions-for-the-future-of-food/2024/10/22/21715
BEGIN:VALARM
TRIGGER:-P0DT1H0M0S
ACTION:DISPLAY
END:VALARM
END:VEVENT
END:VCALENDAR