BEGIN:VCALENDAR
VERSION:2.0
PRODID:-//hacksw/handcal//NONSGML v1.0//EN
BEGIN:VEVENT
DTSTART:20240201T183000Z
DTEND:20240201T213000Z
LOCATION:EDHEC London Campus  \n10 Fleet Place   \nEC4M 7RB London
ORGANIZER;CN=AUDREY HAVERKAMP-COURTY - UK | London:MAILTO:audrey.haverkamp@edhec.edu
SUMMARY:EDHEC Alumni UK - Panel discussion on the Circular Economy featuring  the Ellen MacArthur Foundation
DESCRIPTION:"Make an Impact for Good" Sustainability ProgrammePanel Discussion on the Circular Economy featuring \nthe Ellen MacArthur FoundationThursday 1st February - 6.30pm-9.30pm UK timeHybrid Event - EDHEC...
URL:https://alumni.edhec.edu/fr/group/uk-london/86/calendar/edhec-alumni-uk-panel-discussion-on-the-circular-economy-featuring-the-ellen-macarthur-foundation/2024/02/01/21234
BEGIN:VALARM
TRIGGER:-P0DT1H0M0S
ACTION:DISPLAY
END:VALARM
END:VEVENT
END:VCALENDAR