BEGIN:VCALENDAR
VERSION:2.0
PRODID:-//hacksw/handcal//NONSGML v1.0//EN
BEGIN:VEVENT
DTSTART:20230606T160000Z
DTEND:20230606T180000Z
LOCATION:Gabatxo \n115, Carrer d'Enric Granados \n08008 BARCELONA
ORGANIZER;CN=MARGOT DOYE:MAILTO:margot.doye@edhec.edu
SUMMARY:EDHEC Rendez-vous Barcelone | Afterwork
DESCRIPTION:Dear all, Let's meet up for a friendly afterwork @GabatxoLet's meet up Tuesday 6th June at 6pm\n  All EDHEC graduates and students from Barcelona are expected to attend this eventPlease share this...
URL:https://alumni.edhec.edu/fr/event/edhec-rendez-vous-barcelone-afterwork/2023/06/06/20947
BEGIN:VALARM
TRIGGER:-P0DT1H0M0S
ACTION:DISPLAY
END:VALARM
END:VEVENT
END:VCALENDAR