BEGIN:VCALENDAR
VERSION:2.0
PRODID:-//hacksw/handcal//NONSGML v1.0//EN
BEGIN:VEVENT
DTSTART:20230202T231500Z
DTEND:20230203T031500Z
LOCATION:fitzroy mtl \n551, Avenue du Mont-Royal Est \nH2J 1W5 MONTREAL
ORGANIZER;CN=VICTOR HOUEIX - Canada | Montreal:MAILTO:victor.houeix@edhec.com
SUMMARY:Welcome party EDHEC Montréal 02/02/2023
DESCRIPTION:EDHEC Alumni Canada \nBonjour / Hi,\nNous sommes ravis de vous convier à l'EDHEC Welcome Party de Montreal le jeudi 2 février 2023 prochain!Après ces années Covid nous serons très heureux de renouer...
URL:https://alumni.edhec.edu/fr/group/canada-montreal/67/calendar/welcome-party-edhec-montreal-02-02-2023/2023/02/03/20716
BEGIN:VALARM
TRIGGER:-P0DT1H0M0S
ACTION:DISPLAY
END:VALARM
END:VEVENT
END:VCALENDAR