BEGIN:VCALENDAR
VERSION:2.0
PRODID:-//hacksw/handcal//NONSGML v1.0//EN
BEGIN:VEVENT
DTSTART:20230119T180000Z
DTEND:20230119T220000Z
LOCATION:AfricaWorks Plateau \nImmeuble Ixora II, Rue du Commerce Plateau
ORGANIZER;CN=MAGUELONE BIAU - Afrique subsaharienne (Côte d'Ivoire, Bénin, Cameroun, Nigeria, Sénégal):MAILTO:maguelone.biau@edhec.com
SUMMARY:EDHEC Alumni Abidjan | Cocktail & Welcome Party
DESCRIPTION:EDHEC Alumni Africa\n \nBonjour à tous,L'EDHEC Executive MBA se rend pour la première fois cette année à Abidjan en janvier.\nPour célébrer l'expédition pédagogique de l'EDHEC Executive MBA à Abidjan,...
URL:https://alumni.edhec.edu/fr/group/afrique-subsaharienne-cote-d-ivoire-benin-cameroun-nigeria-senegal/80/calendar/edhec-alumni-abidjan-cocktail-welcome-party/2023/01/19/20707
BEGIN:VALARM
TRIGGER:-P0DT1H0M0S
ACTION:DISPLAY
END:VALARM
END:VEVENT
END:VCALENDAR