BEGIN:VCALENDAR
VERSION:2.0
PRODID:-//hacksw/handcal//NONSGML v1.0//EN
BEGIN:VEVENT
DTSTART:20221126T060000Z
DTEND:20221126T100000Z
LOCATION:Top Golf \n227 North Huangpi Rd, Floor 2, Zhongqu squar
ORGANIZER;CN=GERALDINE SIMON - Chine | Shanghai:MAILTO:geraldine.simon@edhec.edu
SUMMARY:EDHEC Alumni Shanghai | Welcome Party
DESCRIPTION:  It is our great pleasure to invite you to our networking event to mingle and socialize on:Saturday 26th November\n2:00pm - 6:00pm\n @Top Golf (A restaurant with mini golf space )\nFew reasons to...
URL:https://alumni.edhec.edu/fr/group/chine-shanghai/63/calendar/edhec-alumni-shanghai-welcome-party/2022/11/26/20655
BEGIN:VALARM
TRIGGER:-P0DT1H0M0S
ACTION:DISPLAY
END:VALARM
END:VEVENT
END:VCALENDAR