BEGIN:VCALENDAR
VERSION:2.0
PRODID:-//hacksw/handcal//NONSGML v1.0//EN
BEGIN:VEVENT
DTSTART:20221117T180000Z
DTEND:20221117T210000Z
LOCATION:LE PURGATOIRE  \n34, Rue de Zurich \n67000 STRASBOURG
ORGANIZER;CN=YANN RINCKENBERGER ISNARD - France | Grand-Est (Strasbourg):MAILTO:yann.rinckenbergerisnard@edhec.com
SUMMARY:ATTENTION CHANGEMENT DE LIEU | Apéro EDHEC Alsace à Strasbourg
DESCRIPTION:Chèr(e)s tou(te)s,Vous êtes si nombreux ce jeudi à répondre présents... qu'on doit changer le lieu de rencontre ! Venez nous retrouver dans un des bars à vins les plus typés de Strasbourg : le...
URL:https://alumni.edhec.edu/fr/group/france-grand-est-strasbourg/89/calendar/attention-changement-de-lieu-apero-edhec-alsace-a-strasbourg/2022/11/17/20645
BEGIN:VALARM
TRIGGER:-P0DT1H0M0S
ACTION:DISPLAY
END:VALARM
END:VEVENT
END:VCALENDAR