BEGIN:VCALENDAR
VERSION:2.0
PRODID:-//hacksw/handcal//NONSGML v1.0//EN
BEGIN:VEVENT
DTSTART:20221110T000000Z
DTEND:20221110T020000Z
LOCATION:Inside Park at St. Bart's \n325, Park Avenue \n10022 NEW YORK
ORGANIZER;CN=GERALDINE SIMON - USA | New York:MAILTO:geraldine.simon@edhec.edu
SUMMARY:EDHEC Alumni New York | Welcome Party
DESCRIPTION:  It is our great pleasure to invite you to our networking event to mingle and socialize on:Wednesday 9th November\nat 7:00pm\n@Inside Park at St. Bart's\nSo many reasons to join our Welcome Party:-> ...
URL:https://alumni.edhec.edu/fr/group/usa-new-york/56/calendar/edhec-alumni-new-york-welcome-party/2022/11/10/20626
BEGIN:VALARM
TRIGGER:-P0DT1H0M0S
ACTION:DISPLAY
END:VALARM
END:VEVENT
END:VCALENDAR