BEGIN:VCALENDAR
VERSION:2.0
PRODID:-//hacksw/handcal//NONSGML v1.0//EN
BEGIN:VEVENT
DTSTART:20221123T193000Z
DTEND:20221123T230000Z
LOCATION:J.W. Sweetman \n1-2, Burgh Quay \nD02 F243 DUBLIN 2
ORGANIZER;CN=GERALDINE SIMON - Ireland | Dublin:MAILTO:geraldine.simon@edhec.edu
SUMMARY:EDHEC Alumni Dublin | Drinks with the Apprenticeship Track
DESCRIPTION:Bonjour à tous, Les étudiants de la Filière Apprentissage EDHEC débuteront bientôt leur traditionnel séminaire « Team building ».C’est pour eux l’occasion d’apprendre à se connaître, et à découvrir...
URL:https://alumni.edhec.edu/fr/group/ireland-dublin/74/calendar/edhec-alumni-dublin-drinks-with-the-apprenticeship-track/2022/11/23/20613
BEGIN:VALARM
TRIGGER:-P0DT1H0M0S
ACTION:DISPLAY
END:VALARM
END:VEVENT
END:VCALENDAR