BEGIN:VCALENDAR
VERSION:2.0
PRODID:-//hacksw/handcal//NONSGML v1.0//EN
BEGIN:VEVENT
DTSTART:20221116T171500Z
DTEND:20221116T213000Z
LOCATION:Musée Horta \n27, Rue Américaine \n1060 SAINT-GILLES
ORGANIZER;CN=JULIET BOURELY - Belgique:MAILTO:juliet.bourely@gmail.com
SUMMARY:EDHEC Alumni Bruxelles  | Welcome Party au Musée Horta le 16/11
DESCRIPTION:EDHEC Alumni Bruxelles\nWelcome Party Mercredi 16 novembre à 18h15\n@Musée Horta\nBienvenue aux nouveaux arrivants à Bruxelles ! Nous vous proposons pour cet automne une visite exclusive du musée...
URL:https://alumni.edhec.edu/fr/group/belgique/85/calendar/edhec-alumni-bruxelles-welcome-party-au-musee-horta-le-16-11/2022/11/16/20582
BEGIN:VALARM
TRIGGER:-P0DT1H0M0S
ACTION:DISPLAY
END:VALARM
END:VEVENT
END:VCALENDAR