BEGIN:VCALENDAR
VERSION:2.0
PRODID:-//hacksw/handcal//NONSGML v1.0//EN
BEGIN:VEVENT
DTSTART:20221117T173000Z
DTEND:20221117T203000Z
LOCATION:Campus Jean Arnault \n3, Avenue Louis Pluquet \n59100 ROUBAIX
ORGANIZER;CN=GERALDINE SIMON - France | Hauts-de-France (Lille):MAILTO:geraldine.simon@edhec.edu
SUMMARY:EDHEC Alumni HdF : Welcome Party and Demo-Day
DESCRIPTION:~INSCRIPTION ~ EDHEC Alumni & EDHEC Entrepreneurs vous proposent de participer à la traditionnelle WELCOME PARTY\n Venez renforcer votre réseau, rencontrer les équipes EDHEC Alumni & EDHEC...
URL:https://alumni.edhec.edu/fr/group/france-hauts-de-france-lille/54/calendar/edhec-alumni-hdf-welcome-party-and-demo-day/2022/11/17/20557
BEGIN:VALARM
TRIGGER:-P0DT1H0M0S
ACTION:DISPLAY
END:VALARM
END:VEVENT
END:VCALENDAR