BEGIN:VCALENDAR
VERSION:2.0
PRODID:-//hacksw/handcal//NONSGML v1.0//EN
BEGIN:VEVENT
DTSTART:20221012T170000Z
DTEND:20221012T200000Z
LOCATION:MATANGA \n41, Gubener Straße \n10243 BERLIN
ORGANIZER;CN=GERALDINE SIMON - Allemagne | Berlin:MAILTO:geraldine.simon@edhec.edu
SUMMARY:EDHEC Alumni Berlin | Welcome Party
DESCRIPTION:EDHEC Alumni Berlin\nWelcome Party  It is our great pleasure to welcome all EDHEC Alumni in Berlinto a networking event to mingle and socialize on :Wednesday 12th October\nFrom 7.00pm @MATANGAFusion...
URL:https://alumni.edhec.edu/fr/group/allemagne-berlin/76/calendar/edhec-alumni-berlin-welcome-party/2022/10/12/20554
BEGIN:VALARM
TRIGGER:-P0DT1H0M0S
ACTION:DISPLAY
END:VALARM
END:VEVENT
END:VCALENDAR