BEGIN:VCALENDAR
VERSION:2.0
PRODID:-//hacksw/handcal//NONSGML v1.0//EN
BEGIN:VEVENT
DTSTART:20221013T163000Z
DTEND:20221013T193000Z
LOCATION:Voisins de Plainpalais – Coworking Café \n8, Rue des Voisins \n1205 GENEVE
ORGANIZER;CN=ROMANE THEOLEYRE - Suisse Romande | Genève:MAILTO:romane.theoleyre@gmail.com
SUMMARY:EDHEC Alumni Suisse | Afterwork de rentrée (Welcome Party)
DESCRIPTION:Chers EDHEC de Suisse,Nous espérons que vous avez passé un bel été !Nous avons le plaisir de vous convier à un afterwork de rentrée le jeudi 13 octobre au Voisins (bar/ espace de co-working à...
URL:https://alumni.edhec.edu/fr/group/suisse-romande-geneve/84/calendar/edhec-alumni-suisse-afterwork-de-rentree-welcome-party/2022/10/13/20534
BEGIN:VALARM
TRIGGER:-P0DT1H0M0S
ACTION:DISPLAY
END:VALARM
END:VEVENT
END:VCALENDAR