BEGIN:VCALENDAR
VERSION:2.0
PRODID:-//hacksw/handcal//NONSGML v1.0//EN
BEGIN:VEVENT
DTSTART:20221013T173000Z
DTEND:20221013T210000Z
LOCATION:Café Bellecour \n33, Place Bellecour \n69002 LYON
ORGANIZER;CN=ALEXIS FACQUES - France | Auvergne-Rhône-Alpes (Lyon):MAILTO:alexis.facques@gmail.com
SUMMARY:EDHEC Alumni Lyon | Welcome Party le 13 octobre 2022 au Café Bellecour
DESCRIPTION:\nBonjour à tous,\nNous avons le plaisir de vous inviter à notre Welcome Party 2022 pour raviver le réseau EDHEC Rhône-Alpes, se retrouver et accueillir les EDHEC récemment installés à Lyon et ses...
URL:https://alumni.edhec.edu/fr/group/france-auvergne-rhone-alpes-lyon/81/calendar/edhec-alumni-lyon-welcome-party-le-13-octobre-2022-au-cafe-bellecour/2022/10/13/20532
BEGIN:VALARM
TRIGGER:-P0DT1H0M0S
ACTION:DISPLAY
END:VALARM
END:VEVENT
END:VCALENDAR