BEGIN:VCALENDAR
VERSION:2.0
PRODID:-//hacksw/handcal//NONSGML v1.0//EN
BEGIN:VEVENT
DTSTART:20220929T170000Z
DTEND:20220929T210500Z
LOCATION:Marché/Halles du Lez \n1348, Avenue de la Mer-Raymond Dugrand \n34000 MONTPELLIER
ORGANIZER;CN=FREDERIC COHEN - France | Languedoc Roussillon (Montpellier):MAILTO:fr.cohen@gmail.com
SUMMARY:Welcome Party EDHEC Languedoc Roussillon 2022
DESCRIPTION:Bonjour à tousEn parallèle de la welcome party nationale du 06/10, afin d'accueillir les nouveaux Alumni de la région, et/ou simplement de nous retrouver, nous vous donnons RDVle jeudi 29 Septembre à ...
URL:https://alumni.edhec.edu/fr/group/france-languedoc-roussillon-montpellier/44/calendar/welcome-party-edhec-languedoc-roussillon-2022/2022/09/29/20529
BEGIN:VALARM
TRIGGER:-P0DT1H0M0S
ACTION:DISPLAY
END:VALARM
END:VEVENT
END:VCALENDAR