BEGIN:VCALENDAR
VERSION:2.0
PRODID:-//hacksw/handcal//NONSGML v1.0//EN
BEGIN:VEVENT
DTSTART:20221006T170000Z
DTEND:20221006T203000Z
LOCATION:Campus EDHEC Paris \n16, Rue de Choiseul \n75009 PARIS
ORGANIZER;CN=ADELINE REGENT:MAILTO:adeline.regent@edhec.edu
SUMMARY:EDHEC CAMPUS PARIS | Welcome Party Paris !
DESCRIPTION::loudspeaker: EDHEC de toutes promos et de tous programmes, étudiants ou diplômés :\nviens découvrir les opportunités offertes par EDHEC Alumni et passe à l'action pour renforcer ton réseau.\n Tu...
URL:https://alumni.edhec.edu/fr/event/edhec-campus-paris-welcome-party-paris/2022/10/06/20502
BEGIN:VALARM
TRIGGER:-P0DT1H0M0S
ACTION:DISPLAY
END:VALARM
END:VEVENT
END:VCALENDAR