BEGIN:VCALENDAR
VERSION:2.0
PRODID:-//hacksw/handcal//NONSGML v1.0//EN
BEGIN:VEVENT
DTSTART:20220929T163000Z
DTEND:20220929T200000Z
LOCATION:Campus EDHEC NICE - AMPHI 002 \n393, Promenade des Anglais \n06000 NICE
ORGANIZER;CN=BRIGITTE MAISSA:MAILTO:brigitte.maissa@edhec.edu
SUMMARY:Welcome Party Nice
DESCRIPTION:Nouveaux arrivants EDHEC sur la Côte d'azur ?EDHEC ALUMNI vous souhaite la bienvenue et vous propose de participer à sa traditionnelle WELCOME PARTYVenez renforcer votre réseau, rencontrer les...
URL:https://alumni.edhec.edu/fr/event/welcome-party-nice/2022/09/29/20468
BEGIN:VALARM
TRIGGER:-P0DT1H0M0S
ACTION:DISPLAY
END:VALARM
END:VEVENT
END:VCALENDAR