BEGIN:VCALENDAR
VERSION:2.0
PRODID:-//hacksw/handcal//NONSGML v1.0//EN
BEGIN:VEVENT
DTSTART:20220923T010000Z
DTEND:20220923T040000Z
LOCATION:Beretta \n661 Divisadero \n94117 SAN FRANCISCO
ORGANIZER;CN=PATRICIA VINANT - USA | San Francisco:MAILTO:patricia.vinanttang@edhec.com
SUMMARY:WELCOME BACK SF EDHEC ALUMNI - SEP 22
DESCRIPTION:Please join us for a  group dinner networking event in the city to reconnect with our local alumni!WELCOME BACK DinnerLocation:  Beretta Bistro\n661 Divisadero\nSan Francisco, CA...
URL:https://alumni.edhec.edu/fr/group/usa-san-francisco/60/calendar/welcome-back-sf-edhec-alumni-sep-22/2022/09/23/20437
BEGIN:VALARM
TRIGGER:-P0DT1H0M0S
ACTION:DISPLAY
END:VALARM
END:VEVENT
END:VCALENDAR