BEGIN:VCALENDAR
VERSION:2.0
PRODID:-//hacksw/handcal//NONSGML v1.0//EN
BEGIN:VEVENT
DTSTART:20220706T170000Z
DTEND:20220706T183000Z
LOCATION:Campus EDHEC Paris \n16, Rue du 4 septembre \n75002 PARIS
ORGANIZER;CN=ADELINE REGENT:MAILTO:adeline.regent@edhec.edu
SUMMARY:“Consommation responsable : d’un déclic personnel vers une action professionnelle”.
DESCRIPTION:“Consommation responsable : d’un déclic personnel vers une action professionnelle”. C’est le sujet de la discussion organisée par l’équipe de l’EDH’ECoBox. Comment se lancer dans la démarche de la...
URL:https://alumni.edhec.edu/fr/event/-consommation-responsable-d-un-declic-personnel-vers-une-action-professionnelle/2022/07/06/20430
BEGIN:VALARM
TRIGGER:-P0DT1H0M0S
ACTION:DISPLAY
END:VALARM
END:VEVENT
END:VCALENDAR