BEGIN:VCALENDAR
VERSION:2.0
PRODID:-//hacksw/handcal//NONSGML v1.0//EN
BEGIN:VEVENT
DTSTART:20220627T164500Z
DTEND:20220627T183000Z
LOCATION:Campus EDHEC Paris \n16, Rue du 4 septembre \n75002 PARIS
ORGANIZER;CN=ADELINE REGENT:MAILTO:adeline.regent@edhec.edu
SUMMARY:Alumni Summer Session | RENCONTRES PRO| Le Chief Ritual Officer : "le levier des rituels pour un collectif performant"
DESCRIPTION:Le Chief Ritual Officer : "le levier des rituels pour un collectif performant" Il semble clair que les organisations vont traverser dans les prochaines années de fortes turbulences d'adaptation. Les...
URL:https://alumni.edhec.edu/fr/event/-alumni-summer-session-rencontres-pro-le-chief-ritual-officer-le-levier-des-rituels-pour-un-collectif-performant/2022/06/27/20422
BEGIN:VALARM
TRIGGER:-P0DT1H0M0S
ACTION:DISPLAY
END:VALARM
END:VEVENT
END:VCALENDAR