BEGIN:VCALENDAR
VERSION:2.0
PRODID:-//hacksw/handcal//NONSGML v1.0//EN
BEGIN:VEVENT
DTSTART:20220706T163000Z
DTEND:20220706T173000Z
LOCATION:
ORGANIZER;CN=ADELINE REGENT:MAILTO:adeline.regent@edhec.edu
SUMMARY:COACHING : Recherche d'emploi ou de construction de ton projet professionnel - Groupe 2
DESCRIPTION:Tu es en phase active de recherche d'emploi ou de construction de ton projet professionnel ? Tu souhaites t'investir dans un programme mêlant partage d'expériences et exercices pratiques ?Ces groupe...
URL:https://alumni.edhec.edu/fr/event/coaching-recherche-d-emploi-ou-de-construction-de-ton-projet-professionnel-groupe-2/2022/07/06/20391
BEGIN:VALARM
TRIGGER:-P0DT1H0M0S
ACTION:DISPLAY
END:VALARM
END:VEVENT
END:VCALENDAR